Workbook

Sheet 顧客データベース
A1: 顧客名 | B1: 郵便番号 | C1: 住所 | D1: 部署 | E1: 担当者
A2: 株式会社〇〇〇〇 | B2: 000-0000 | C2: ○○県○○市○○○○ 0-0-0 〇〇ビル 1階 | D2: 営業部 | E2: 山田 太郎
A3: 株式会社△△△△ | B3: 111-1111 | C3: △△県△△市△△△△ 1-1-1 △△ビル 2階 | D3: 営業部 1グループ | E3: 鈴木 次郎

Sheet 売上台帳
A1: 売上No. | B1: 売上日 | C1: 顧客 | D1: 商品名 ／ 品名 | E1: 数量 | F1: 単位 | G1: 単価 | H1: 金額 | J1: {=_xlfn.UNIQUE(A:A)} -> 売上No.
A2: 2022-0001 | B2: 44805 | C2: 株式会社〇〇〇〇 | D2: AAAAA | E2: 2 | F2: 個 | G2: 1000 | H2: =IF(AND(E2<>"",G2<>""),E2*G2,"") -> 2000 | J2: 2022-0001
A3: 2022-0001 | B3: 44805 | C3: 株式会社〇〇〇〇 | D3: BBBBB | E3: 3 | F3: 枚 | G3: 3000 | H3: =IF(AND(E3<>"",G3<>""),E3*G3,"") -> 9000 | J3: 2022-0002
A4: 2022-0001 | B4: 44805 | C4: 株式会社〇〇〇〇 | D4: CCCCC | E4: 1 | F4: kg | G4: 2000 | H4: =IF(AND(E4<>"",G4<>""),E4*G4,"") -> 2000 | J4: 2022-0003
A5: 2022-0002 | B5: 44806 | C5: 株式会社△△△△ | D5: DDDDD | E5: 1 | F5: 個 | G5: 3000 | H5: =IF(AND(E5<>"",G5<>""),E5*G5,"") -> 3000 | J5: 0
A6: 2022-0002 | B6: 44806 | C6: 株式会社△△△△ | D6: EEEEEE | E6: 1 | F6: 枚 | G6: 2000 | H6: =IF(AND(E6<>"",G6<>""),E6*G6,"") -> 2000
A7: 2022-0002 | B7: 44806 | C7: 株式会社△△△△ | D7: FFFFFF | E7: 2 | F7: kg | G7: 1000 | H7: =IF(AND(E7<>"",G7<>""),E7*G7,"") -> 2000
A8: 2022-0002 | B8: 44806 | C8: 株式会社△△△△ | D8: GGGGG | E8: 5 | F8: kg | G8: 1500 | H8: =IF(AND(E8<>"",G8<>""),E8*G8,"") -> 7500
A9: 2022-0002 | B9: 44806 | C9: 株式会社△△△△ | D9: HHHHH | E9: 1 | F9: 枚 | G9: 2000 | H9: =IF(AND(E9<>"",G9<>""),E9*G9,"") -> 2000
A10: 2022-0003 | B10: 44806 | C10: 株式会社〇〇〇〇 | D10: EEEEEE | E10: 1 | F10: 枚 | G10: 2000 | H10: =IF(AND(E10<>"",G10<>""),E10*G10,"") -> 2000

Sheet 領収書
B1: 領 収 書
F2: No.： | G2: 2022-0001
F3: 発行日： | G3: =TODAY() -> 44829
B5: =_xlfn.XLOOKUP(G2,売上データ[売上No.],売上データ[顧客]) -> 株式会社〇〇〇〇 | D5: 御 中 | E5: 株式会社 XXXX
B7: ="〒"&_xlfn.XLOOKUP(B5,顧客データ[顧客名],顧客データ[郵便番号])&" "&_xlfn.XLOOKUP(B5,顧客データ[顧客名],顧客データ[住所]) -> 〒000-0000 ○○県○○市○○○○ 0-0-0 〇〇ビル 1階 | E7: 〒999-9999
B8: =_xlfn.XLOOKUP(B5,顧客データ[顧客名],顧客データ[部署])&" "&_xlfn.XLOOKUP(B5,顧客データ[顧客名],顧客データ[担当者])&" 様" -> 営業部 山田 太郎 様 | E8: XX県XX市XXXXXXXX１－２－３
B9: 下記の金額、正に領収いたしました。 | E9: △△△ビル １Ｆ １２３
E10: ☎ 99-9999-9999 📠 99-9999-9999
B11: ="合計金額： \"&G30&"-" -> 合計金額： \14300- | E11: ✉ info@xxxxxxxx.com
B13: ＜ 領収明細 >
B16: No. | C16: 商品名 ／ 品名 | D16: 数 量 | F16: 単 価 | G16: 金 額
B17: 1 | C17: {=_xlfn._xlws.FILTER(売上データ[[商品名 ／ 品名]:[金額]],売上データ[売上No.]=G2,"発行No.を確認してください！")} -> AAAAA | D17: 2 | E17: 個 | F17: 1000 | G17: 2000
B18: =B17+1 -> 2 | C18: BBBBB | D18: 3 | E18: 枚 | F18: 3000 | G18: 9000
B19: =B18+1 -> 3 | C19: CCCCC | D19: 1 | E19: kg | F19: 2000 | G19: 2000
B20: =B19+1 -> 4
B21: =B20+1 -> 5
B22: =B21+1 -> 6 | C22: =[1]見積書!C22 | D22: =[1]見積書!I22 -> 0 | E22: =[1]見積書!J22 | F22: =[1]見積書!K22 -> 0
B23: =B22+1 -> 7 | C23: =[1]見積書!C23 | D23: =[1]見積書!I23 -> 0 | E23: =[1]見積書!J23 | F23: =[1]見積書!K23 -> 0
B24: =B23+1 -> 8 | C24: =[1]見積書!C24 | D24: =[1]見積書!I24 -> 0 | E24: =[1]見積書!J24 | F24: =[1]見積書!K24 -> 0
B25: =B24+1 -> 9 | C25: =[1]見積書!C25 | D25: =[1]見積書!I25 -> 0 | E25: =[1]見積書!J25 | F25: =[1]見積書!K25 -> 0
B26: =B25+1 -> 10 | C26: =[1]見積書!C26 | D26: =[1]見積書!I26 -> 0 | E26: =[1]見積書!J26 | F26: =[1]見積書!K26 -> 0
E28: 小 計 | F28: (税抜) | G28: =SUM(G17:G26) -> 13000
E29: 消費税 | F29: 10 | G29: =INT(G28*F29/100) -> 1300
E30: 合 計 | F30: (税込) | G30: =G28+G29 -> 14300
